BEGIN:VCALENDAR
VERSION:2.0
PRODID:-//Trường Đại học Sư phạm Thể dục Thể thao TP. Hồ Chí Minh - ECPv6.2.3.2//NONSGML v1.0//EN
CALSCALE:GREGORIAN
METHOD:PUBLISH
X-WR-CALNAME:Trường Đại học Sư phạm Thể dục Thể thao TP. Hồ Chí Minh
X-ORIGINAL-URL:https://upes.edu.vn
X-WR-CALDESC:Events for Trường Đại học Sư phạm Thể dục Thể thao TP. Hồ Chí Minh
REFRESH-INTERVAL;VALUE=DURATION:PT1H
X-Robots-Tag:noindex
X-PUBLISHED-TTL:PT1H
BEGIN:VTIMEZONE
TZID:Asia/Krasnoyarsk
BEGIN:STANDARD
TZOFFSETFROM:+0700
TZOFFSETTO:+0700
TZNAME:+07
DTSTART:20260101T000000
END:STANDARD
END:VTIMEZONE
BEGIN:VEVENT
DTSTART;TZID=Asia/Krasnoyarsk:20260401T080000
DTEND;TZID=Asia/Krasnoyarsk:20260430T170000
DTSTAMP:20260420T022847
CREATED:20260401T010024Z
LAST-MODIFIED:20260406T044830Z
UID:13126-1775030400-1777568400@upes.edu.vn
SUMMARY:Chúc mừng sinh nhật Quý Thầy Cô - Tháng 04 năm 2026
DESCRIPTION:Chúc mừng sinh nhật Quý Thầy Cô trong Tháng 4 năm 2025\n  \n  \n\n\n\nSTT\nViên chức\nNgày sinh\nĐơn vị\n\n\n1\nThs. Nguyễn Thị Kim Ngọc\n01/04/1974\nKhoa Thể dục – Võ thuật\n\n\n2\nThs. Lại Nhật Khánh Hùng\n03/04/1984\nKhoa Điền kinh – Bơi lặn\n\n\n3\nNguyễn Xuân Yến\n03/04/1999\nPhòng Tổ chức – Hành chính\n\n\n4\nPhạm Thị Thơm\n07/04/1963\nPhòng Tổ chức – Hành chính\n\n\n5\nThs. Bùi Minh Khoa\n08/04/1993\nKhoa Thể dục – Võ thuật\n\n\n6\nThs. Đỗ Đăng Bình\n10/04/1987\nPhòng Kế hoạch – Tài chính\n\n\n7\nLê Thị Yến Thảo\n15/04/1995\nPhòng Đào tạo – Khảo thí\n\n\n8\nThs. Nguyễn Lê Thanh Bửu Châu\n20/04/1993\nPhòng Thanh tra – Đảm bảo chất lượng\n\n\n9\nThs. Phan Lê Tuấn An\n23/04/1990\nPhòng Tổ chức – Hành chính\n\n\n10\nMai Nguyễn Quân\n24/04/1999\nPhòng Tổ chức – Hành chính\n\n\n11\nNguyễn Thị Quý\n25/04/1986\nPhòng Kế hoạch – Tài chính
URL:https://upes.edu.vn/event/chuc-mung-sinh-nhat-quy-thay-co-thang-04-nam-2026/
LOCATION:Cơ sở Nguyễn Trãi\, 639 Nguyễn Trãi\, Phường 11\, Quận 5\, Hồ Chí Minh\, Viet Nam
CATEGORIES:Chúc mừng sinh nhật
ATTACH;FMTTYPE=image/jpeg:https://upes.edu.vn/wp-content/uploads/2023/07/Happy_birthday.jpg
ORGANIZER;CN="Tr%C6%B0%E1%BB%9Dng %C4%90%E1%BA%A1i h%E1%BB%8Dc S%C6%B0 ph%E1%BA%A1m Th%E1%BB%83 d%E1%BB%A5c Th%E1%BB%83 thao Th%C3%A0nh ph%E1%BB%91 H%E1%BB%93 Ch%C3%AD Minh":MAILTO:upes.hcmc@upes.edu.vn
END:VEVENT
END:VCALENDAR